BEGIN:VCALENDAR
VERSION:2.0
PRODID:-//hacksw/handcal//NONSGML v1.0//EN
BEGIN:VEVENT
SUMMARY:Entrainement
UID:f4138321-c9dc-437c-a76c-ceb32e93d756
DTSTART:20260214T090000Z
DTEND:20260214T130000Z
LOCATION:Localisation   
CATEGORIES:Sportif
STATUS:
DESCRIPTION:Entrainement pour toutes les equipes afin de preparer les
 prochains tournois.
URL;VALUE=URI:https://compagnie-de-chezy-en-orxois.sportsregions.fr/evenements/2026/02/14/entrainement-2415841
END:VEVENT
END:VCALENDAR
